BEGIN:VCALENDAR
VERSION:2.0
PRODID:-//The Bridge Initiative - ECPv5.9.1//NONSGML v1.0//EN
CALSCALE:GREGORIAN
METHOD:PUBLISH
X-WR-CALNAME:The Bridge Initiative
X-ORIGINAL-URL:https://bridgetest.davidjdickinson.com
X-WR-CALDESC:Events for The Bridge Initiative
BEGIN:VTIMEZONE
TZID:America/Phoenix
BEGIN:STANDARD
TZOFFSETFROM:-0700
TZOFFSETTO:-0700
TZNAME:MST
DTSTART:20210101T000000
END:STANDARD
END:VTIMEZONE
BEGIN:VEVENT
DTSTART;TZID=America/Phoenix:20220114T193000
DTEND;TZID=America/Phoenix:20220122T213000
DTSTAMP:20260420T192257
CREATED:20211001T191839Z
LAST-MODIFIED:20211002T164557Z
UID:3935-1642188600-1642887000@bridgetest.davidjdickinson.com
SUMMARY:A Feminine Ending
DESCRIPTION:
URL:https://bridgetest.davidjdickinson.com/calendar/a-feminine-ending/
END:VEVENT
BEGIN:VEVENT
DTSTART;TZID=America/Phoenix:20211021T110000
DTEND;TZID=America/Phoenix:20211021T120000
DTSTAMP:20260420T192257
CREATED:20210926T220949Z
LAST-MODIFIED:20210928T064856Z
UID:3830-1634814000-1634817600@bridgetest.davidjdickinson.com
SUMMARY:Broadway Book Club... Today! - October
DESCRIPTION:DOES BROADWAY EVEN MATTER ANYMORE? \nWith KELLI JAMES CHASE\nNorth America’s first Broadway Eponine in Les Miz\, local treasure\, and owner of The Broadway Advantage \nMusic Direction by JAMES MAY\nBroadway’s The Lion King\, Jersey Boys..not to mention the first tour of the original La Cage (Woot!) \nHosted by BRIDGE CORE artists\nBRENDA JEAN FOLEY (AEA) & WILL ROGERS FOLLIES (the musical) \nTHURSDAY\, OCTOBER 21\n11a.m.
URL:https://bridgetest.davidjdickinson.com/calendar/broadway-book-club-today-october/
LOCATION:ASU Kerr Cultural Center\, 6110 N. Scottsdale Rd.\, Scottsdale\, Arizona\, 85253\, United States
CATEGORIES:Bridge Events,Broadway Book Club
ATTACH;FMTTYPE=image/png:https://bridgetest.davidjdickinson.com/wp-content/uploads/2021/09/bbct-real-final.png
ORGANIZER;CN="Brenda%20Foley":MAILTO:brenda@bridgeinit.org
END:VEVENT
BEGIN:VEVENT
DTSTART;TZID=America/Phoenix:20211011T180000
DTEND;TZID=America/Phoenix:20211011T200000
DTSTAMP:20260420T192257
CREATED:20210927T043935Z
LAST-MODIFIED:20210926T222509Z
UID:3818-1633975200-1633982400@bridgetest.davidjdickinson.com
SUMMARY:Monthly Muse - October
DESCRIPTION:Filling the Creative Well: For Artists & Everyone!\nCurated by BRIDGE CORE artist NATALIE ANDREWS \nHave you been feeling stuck in a rut with a project? Have you had a recent urge to shake up the energy in your world and try something new? \nFor our opening act this season\, The Bridge Initiative presents a workshop event to kickstart your innovation and infuse your creative process with new perspectives\, tips\, and tricks to help get you where your inspiration is taking you. \nPresented by some of the Valley’s leading experts on creativity\, this hands-on learning experience will take you through a series of guided exercises\, games\, and visualizations to focus your imagination and sharpen your creative problem-solving skills. \nThroughout the evening\, there will also be opportunities to connect over ideas with other like-minded makers\, because as some claim Einstein once said\, “Creativity is contagious.” \nFEATURING: \nBRIAN FOLEY\nBRIDGE CORE artists\, Producer of Valley Variety\, ASU Faculty
URL:https://bridgetest.davidjdickinson.com/calendar/monthly-muse-october/
LOCATION:ASU Kerr Cultural Center\, 6110 N. Scottsdale Rd.\, Scottsdale\, Arizona\, 85253\, United States
CATEGORIES:Bridge Events,Monthly Muse
ATTACH;FMTTYPE=image/png:https://bridgetest.davidjdickinson.com/wp-content/uploads/2021/09/Building-Bridges-Looks16.png
ORGANIZER;CN="Peggy%20Q.%20Public":MAILTO:peggyq@brigeinit.org
END:VEVENT
END:VCALENDAR